BEGIN:VCALENDAR
VERSION:2.0
PRODID:-//Writers Festival//Event//EN
CALSCALE:GREGORIAN
METHOD:PUBLISH
BEGIN:VEVENT
UID:wf-69e75637619666.91062145@writersfestival.ca
DTSTAMP:20260421T064927
DTSTART;TZID=America/Toronto:20181006T140000
DTEND;TZID=America/Toronto:20181006T153000
SUMMARY:Writers Festival: Youth Writer’s Workshop 
LOCATION:Ottawa Public Library Sunnyside Branch\, 1049 Bank St.
END:VEVENT
END:VCALENDAR