BEGIN:VCALENDAR
VERSION:2.0
PRODID:-//Writers Festival//Event//EN
CALSCALE:GREGORIAN
METHOD:PUBLISH
BEGIN:VEVENT
UID:wf-69e74e4ade3967.19750364@writersfestival.ca
DTSTAMP:20260421T061538
DTSTART;TZID=America/Toronto:20221019T203000
DTEND;TZID=America/Toronto:20221019T220000
SUMMARY:Writers Festival: Young Mungo
LOCATION:Christ Church Cathedral\, 414 Sparks St.
END:VEVENT
END:VCALENDAR