BEGIN:VCALENDAR
VERSION:2.0
PRODID:-//Writers Festival//Event//EN
CALSCALE:GREGORIAN
METHOD:PUBLISH
BEGIN:VEVENT
UID:wf-69e73e2e9f21d0.33100220@writersfestival.ca
DTSTAMP:20260421T050654
DTSTART;TZID=America/Toronto:20251026T180000
DTEND;TZID=America/Toronto:20251026T193000
SUMMARY:Writers Festival: You Will Not Kill Our Imagination
LOCATION:Library and Archives Canada\, 395 Wellington Street
END:VEVENT
END:VCALENDAR