BEGIN:VCALENDAR
VERSION:2.0
PRODID:-//Writers Festival//Event//EN
CALSCALE:GREGORIAN
METHOD:PUBLISH
BEGIN:VEVENT
UID:wf-69e76b0c2298f6.64351417@writersfestival.ca
DTSTAMP:20260421T081820
DTSTART;TZID=America/Toronto:20201120T120000
DTEND;TZID=America/Toronto:20201120T133000
SUMMARY:Writers Festival: Writing for Young Readers
LOCATION:
END:VEVENT
END:VCALENDAR