BEGIN:VCALENDAR
VERSION:2.0
PRODID:-//Writers Festival//Event//EN
CALSCALE:GREGORIAN
METHOD:PUBLISH
BEGIN:VEVENT
UID:wf-69e770c3931b31.03378678@writersfestival.ca
DTSTAMP:20260421T084243
DTSTART;TZID=America/Toronto:20140621T140000
DTEND;TZID=America/Toronto:20140621T153000
SUMMARY:Writers Festival: Writers Festival Tent at Perth’s World Record Kilt Run
LOCATION:Stewart Park\, Perth Ontario
END:VEVENT
END:VCALENDAR