BEGIN:VCALENDAR
VERSION:2.0
PRODID:-//Writers Festival//Event//EN
CALSCALE:GREGORIAN
METHOD:PUBLISH
BEGIN:VEVENT
UID:wf-69e777d5624825.83258748@writersfestival.ca
DTSTAMP:20260421T091253
DTSTART;TZID=America/Toronto:20140510T103000
DTEND;TZID=America/Toronto:20140510T120000
SUMMARY:Writers Festival: Write on! Workshop  with Meg Tilly
LOCATION:Sunnyside OPL\, 1049 Bank Street
END:VEVENT
END:VCALENDAR