BEGIN:VCALENDAR
VERSION:2.0
PRODID:-//Writers Festival//Event//EN
CALSCALE:GREGORIAN
METHOD:PUBLISH
BEGIN:VEVENT
UID:wf-69e76cd77dc1b4.72906344@writersfestival.ca
DTSTAMP:20260421T082559
DTSTART;TZID=America/Toronto:20140425T183000
DTEND;TZID=America/Toronto:20140425T200000
SUMMARY:Writers Festival: Worlds Within Words with Peter Norman\, Alena Graedon and Ghalib Islam
LOCATION:Knox Presbyterian Church\, 120 Lisgar Street (at Elgin)
END:VEVENT
END:VCALENDAR