BEGIN:VCALENDAR
VERSION:2.0
PRODID:-//Writers Festival//Event//EN
CALSCALE:GREGORIAN
METHOD:PUBLISH
BEGIN:VEVENT
UID:wf-69e73db8479ce4.30174090@writersfestival.ca
DTSTAMP:20260421T050456
DTSTART;TZID=America/Toronto:20130303T140000
DTEND;TZID=America/Toronto:20130303T153000
SUMMARY:Writers Festival: Workshop Twisting Reality:Hiding in Plain Sight
LOCATION:Bridgehead Roastery\, 130 Anderson St.
END:VEVENT
END:VCALENDAR