BEGIN:VCALENDAR
VERSION:2.0
PRODID:-//Writers Festival//Event//EN
CALSCALE:GREGORIAN
METHOD:PUBLISH
BEGIN:VEVENT
UID:wf-69e73c011479b8.29621640@writersfestival.ca
DTSTAMP:20260421T045737
DTSTART;TZID=America/Toronto:20120429T140000
DTEND;TZID=America/Toronto:20120429T153000
SUMMARY:Writers Festival: When We Talk About War with Noah Richler
LOCATION:Knox Presbyterian Church\, 120 Lisgar Street (at Elgin)
END:VEVENT
END:VCALENDAR