BEGIN:VCALENDAR
VERSION:2.0
PRODID:-//Writers Festival//Event//EN
CALSCALE:GREGORIAN
METHOD:PUBLISH
BEGIN:VEVENT
UID:wf-69e752385983e0.64221669@writersfestival.ca
DTSTAMP:20260421T063224
DTSTART;TZID=America/Toronto:20161022T203000
DTEND;TZID=America/Toronto:20161022T220000
SUMMARY:Writers Festival: What Tomorrow Brings  with Michael Helm and M.G. Vassanji
LOCATION:Christ Church Cathedral\, 414 Sparks Street
END:VEVENT
END:VCALENDAR