BEGIN:VCALENDAR
VERSION:2.0
PRODID:-//Writers Festival//Event//EN
CALSCALE:GREGORIAN
METHOD:PUBLISH
BEGIN:VEVENT
UID:wf-69e76f2b465120.07623406@writersfestival.ca
DTSTAMP:20260421T083555
DTSTART;TZID=America/Toronto:20230506T210000
DTEND;TZID=America/Toronto:20230506T223000
SUMMARY:Writers Festival: What Tomorrow Brings
LOCATION:Christ Church Cathedral\, 414 Sparks St.
END:VEVENT
END:VCALENDAR