BEGIN:VCALENDAR
VERSION:2.0
PRODID:-//Writers Festival//Event//EN
CALSCALE:GREGORIAN
METHOD:PUBLISH
BEGIN:VEVENT
UID:wf-69e73996bf8c23.28437862@writersfestival.ca
DTSTAMP:20260421T044718
DTSTART;TZID=America/Toronto:20200604T130000
DTEND;TZID=America/Toronto:20200604T143000
SUMMARY:Writers Festival: Virtual Book Launch: On Pandemics
LOCATION:Online Event\, Online Event
END:VEVENT
END:VCALENDAR