BEGIN:VCALENDAR
VERSION:2.0
PRODID:-//Writers Festival//Event//EN
CALSCALE:GREGORIAN
METHOD:PUBLISH
BEGIN:VEVENT
UID:wf-69e7521f59f098.21807725@writersfestival.ca
DTSTAMP:20260421T063159
DTSTART;TZID=America/Toronto:20170430T183000
DTEND;TZID=America/Toronto:20170430T200000
SUMMARY:Writers Festival: Vimy: The Battle and the Legend with Tim Cook 
LOCATION:Christ Church Cathedral\, 414 Sparks St.
END:VEVENT
END:VCALENDAR