BEGIN:VCALENDAR
VERSION:2.0
PRODID:-//Writers Festival//Event//EN
CALSCALE:GREGORIAN
METHOD:PUBLISH
BEGIN:VEVENT
UID:wf-69e76d751c94e5.26346335@writersfestival.ca
DTSTAMP:20260421T082837
DTSTART;TZID=America/Toronto:20140330T203000
DTEND;TZID=America/Toronto:20140330T220000
SUMMARY:Writers Festival: VerseFest 2014
LOCATION:Knox Presbyterian Church\, 120 Lisgar Street (at Elgin)
END:VEVENT
END:VCALENDAR