BEGIN:VCALENDAR
VERSION:2.0
PRODID:-//Writers Festival//Event//EN
CALSCALE:GREGORIAN
METHOD:PUBLISH
BEGIN:VEVENT
UID:wf-69e73a0fe79264.28858494@writersfestival.ca
DTSTAMP:20260421T044919
DTSTART;TZID=America/Toronto:20150930T190000
DTEND;TZID=America/Toronto:20150930T203000
SUMMARY:Writers Festival: Unaccountable with Kevin Page
LOCATION:Centretown United Church\, 507 Bank St.
END:VEVENT
END:VCALENDAR