BEGIN:VCALENDAR
VERSION:2.0
PRODID:-//Writers Festival//Event//EN
CALSCALE:GREGORIAN
METHOD:PUBLISH
BEGIN:VEVENT
UID:wf-69e78360b6e201.83857433@writersfestival.ca
DTSTAMP:20260421T100208
DTSTART;TZID=America/Toronto:20150422T170000
DTEND;TZID=America/Toronto:20150422T183000
SUMMARY:Writers Festival: Traduire Richard III en français\, ici et aujourd’hui :  rencontre avec l’auteur et traducteur Jean Marc Dalpe
LOCATION:Foyer du Théâtre du CNA\, 53\, Elgin\, Ottawa
END:VEVENT
END:VCALENDAR