BEGIN:VCALENDAR
VERSION:2.0
PRODID:-//Writers Festival//Event//EN
CALSCALE:GREGORIAN
METHOD:PUBLISH
BEGIN:VEVENT
UID:wf-69e75021c2c263.25760040@writersfestival.ca
DTSTAMP:20260421T062329
DTSTART;TZID=America/Toronto:20170429T203000
DTEND;TZID=America/Toronto:20170429T220000
SUMMARY:Writers Festival: Event Cancelled: This Is an Uprisingwith Mark Engler
LOCATION:Christ Church Cathedral\, 414 Spraks St.
END:VEVENT
END:VCALENDAR