BEGIN:VCALENDAR
VERSION:2.0
PRODID:-//Writers Festival//Event//EN
CALSCALE:GREGORIAN
METHOD:PUBLISH
BEGIN:VEVENT
UID:wf-69e773d790e548.27357167@writersfestival.ca
DTSTAMP:20260421T085551
DTSTART;TZID=America/Toronto:20131028T203000
DTEND;TZID=America/Toronto:20131028T220000
SUMMARY:Writers Festival: The War That Ended Peace with Margaret MacMillan
LOCATION:Knox Presbyterian Church\, 120 Lisgar Street (at Elgin)
END:VEVENT
END:VCALENDAR