BEGIN:VCALENDAR
VERSION:2.0
PRODID:-//Writers Festival//Event//EN
CALSCALE:GREGORIAN
METHOD:PUBLISH
BEGIN:VEVENT
UID:wf-69e766b022f481.91934053@writersfestival.ca
DTSTAMP:20260421T075944
DTSTART;TZID=America/Toronto:20141025T183000
DTEND;TZID=America/Toronto:20141025T200000
SUMMARY:Writers Festival: The Village Effect with Susan Pinker
LOCATION:Knox Sanctuary\, 120 Lisgar Street (at Elgin)
END:VEVENT
END:VCALENDAR