BEGIN:VCALENDAR
VERSION:2.0
PRODID:-//Writers Festival//Event//EN
CALSCALE:GREGORIAN
METHOD:PUBLISH
BEGIN:VEVENT
UID:wf-69e75386807777.23024463@writersfestival.ca
DTSTAMP:20260421T063758
DTSTART;TZID=America/Toronto:20150426T140000
DTEND;TZID=America/Toronto:20150426T153000
SUMMARY:Writers Festival: The Teenage Brain with Frances E. Jensen
LOCATION:Christ Church Cathedral\, 414 Sparks Street
END:VEVENT
END:VCALENDAR