BEGIN:VCALENDAR
VERSION:2.0
PRODID:-//Writers Festival//Event//EN
CALSCALE:GREGORIAN
METHOD:PUBLISH
BEGIN:VEVENT
UID:wf-69e76b02b248a7.91118359@writersfestival.ca
DTSTAMP:20260421T081810
DTSTART;TZID=America/Toronto:20210924T120000
DTEND;TZID=America/Toronto:20210924T133000
SUMMARY:Writers Festival: The Spectacular
LOCATION:
END:VEVENT
END:VCALENDAR