BEGIN:VCALENDAR
VERSION:2.0
PRODID:-//Writers Festival//Event//EN
CALSCALE:GREGORIAN
METHOD:PUBLISH
BEGIN:VEVENT
UID:wf-69e75637628560.37349489@writersfestival.ca
DTSTAMP:20260421T064927
DTSTART;TZID=America/Toronto:20210827T120000
DTEND;TZID=America/Toronto:20210827T133000
SUMMARY:Writers Festival: The Snow Line
LOCATION:
END:VEVENT
END:VCALENDAR