BEGIN:VCALENDAR
VERSION:2.0
PRODID:-//Writers Festival//Event//EN
CALSCALE:GREGORIAN
METHOD:PUBLISH
BEGIN:VEVENT
UID:wf-69e78754767ac4.56017185@writersfestival.ca
DTSTAMP:20260421T101900
DTSTART;TZID=America/Toronto:20200211T190000
DTEND;TZID=America/Toronto:20200211T203000
SUMMARY:Writers Festival: The Skin We're In: A Year of Black Resistance and Power
LOCATION:Library and Archives Canada\, 395 Wellington st.
END:VEVENT
END:VCALENDAR