BEGIN:VCALENDAR
VERSION:2.0
PRODID:-//Writers Festival//Event//EN
CALSCALE:GREGORIAN
METHOD:PUBLISH
BEGIN:VEVENT
UID:wf-69e753fe805782.44149121@writersfestival.ca
DTSTAMP:20260421T063958
DTSTART;TZID=America/Toronto:20181028T140000
DTEND;TZID=America/Toronto:20181028T153000
SUMMARY:Writers Festival: The Secret History of Soldiers
LOCATION:Christ Church Cathedral\, 414 Sparks Street
END:VEVENT
END:VCALENDAR