BEGIN:VCALENDAR
VERSION:2.0
PRODID:-//Writers Festival//Event//EN
CALSCALE:GREGORIAN
METHOD:PUBLISH
BEGIN:VEVENT
UID:wf-69e7516a6a53f2.10549363@writersfestival.ca
DTSTAMP:20260421T062858
DTSTART;TZID=America/Toronto:20221023T150000
DTEND;TZID=America/Toronto:20221023T163000
SUMMARY:Writers Festival: The River Twice
LOCATION:Christ Church Cathedral\, 414 Sparks St.
END:VEVENT
END:VCALENDAR