BEGIN:VCALENDAR
VERSION:2.0
PRODID:-//Writers Festival//Event//EN
CALSCALE:GREGORIAN
METHOD:PUBLISH
BEGIN:VEVENT
UID:wf-69e76d6aae2464.65648424@writersfestival.ca
DTSTAMP:20260421T082826
DTSTART;TZID=America/Toronto:20230506T163000
DTEND;TZID=America/Toronto:20230506T180000
SUMMARY:Writers Festival: The Patriarchs
LOCATION:Christ Church Cathedral\, 414 Sparks St.
END:VEVENT
END:VCALENDAR