BEGIN:VCALENDAR
VERSION:2.0
PRODID:-//Writers Festival//Event//EN
CALSCALE:GREGORIAN
METHOD:PUBLISH
BEGIN:VEVENT
UID:wf-69e74e8c583009.18321013@writersfestival.ca
DTSTAMP:20260421T061644
DTSTART;TZID=America/Toronto:20230505T193000
DTEND;TZID=America/Toronto:20230505T210000
SUMMARY:Writers Festival: The New Masculinity
LOCATION:Christ Church Cathedral\, 414 Sparks St.
END:VEVENT
END:VCALENDAR