BEGIN:VCALENDAR
VERSION:2.0
PRODID:-//Writers Festival//Event//EN
CALSCALE:GREGORIAN
METHOD:PUBLISH
BEGIN:VEVENT
UID:wf-69e7827d22f9c2.78885898@writersfestival.ca
DTSTAMP:20260421T095821
DTSTART;TZID=America/Toronto:20170430T203000
DTEND;TZID=America/Toronto:20170430T220000
SUMMARY:Writers Festival: The Illegalwith Lawrence Hill 
LOCATION:Christ Church Cathedral\, 414 Sparks St.
END:VEVENT
END:VCALENDAR