BEGIN:VCALENDAR
VERSION:2.0
PRODID:-//Writers Festival//Event//EN
CALSCALE:GREGORIAN
METHOD:PUBLISH
BEGIN:VEVENT
UID:wf-69eb30d693a2a7.33065400@writersfestival.ca
DTSTAMP:20260424T045902
DTSTART;TZID=America/Toronto:20210521T120000
DTEND;TZID=America/Toronto:20210521T133000
SUMMARY:Writers Festival: The Good Father 
LOCATION:
END:VEVENT
END:VCALENDAR