BEGIN:VCALENDAR
VERSION:2.0
PRODID:-//Writers Festival//Event//EN
CALSCALE:GREGORIAN
METHOD:PUBLISH
BEGIN:VEVENT
UID:wf-69e78bf4d066a9.14995088@writersfestival.ca
DTSTAMP:20260421T103844
DTSTART;TZID=America/Toronto:20240215T120000
DTEND;TZID=America/Toronto:20240215T133000
SUMMARY:Writers Festival: The Fake
LOCATION:
END:VEVENT
END:VCALENDAR