BEGIN:VCALENDAR
VERSION:2.0
PRODID:-//Writers Festival//Event//EN
CALSCALE:GREGORIAN
METHOD:PUBLISH
BEGIN:VEVENT
UID:wf-69e4ce73313075.25120780@writersfestival.ca
DTSTAMP:20260419T084539
DTSTART;TZID=America/Toronto:20260502T143000
DTEND;TZID=America/Toronto:20260502T160000
SUMMARY:Writers Festival: The Brain Never Sleeps
LOCATION:Library and Archives Canada\, 395 Wellington Street
END:VEVENT
END:VCALENDAR