BEGIN:VCALENDAR
VERSION:2.0
PRODID:-//Writers Festival//Event//EN
CALSCALE:GREGORIAN
METHOD:PUBLISH
BEGIN:VEVENT
UID:wf-69e89d9da1bc39.49139488@writersfestival.ca
DTSTAMP:20260422T060621
DTSTART;TZID=America/Toronto:20231016T190000
DTEND;TZID=America/Toronto:20231016T203000
SUMMARY:Writers Festival: The Bone Hacker
LOCATION:St John the Evangelist\, 154 Somerset Street West 
END:VEVENT
END:VCALENDAR