BEGIN:VCALENDAR
VERSION:2.0
PRODID:-//Writers Festival//Event//EN
CALSCALE:GREGORIAN
METHOD:PUBLISH
BEGIN:VEVENT
UID:wf-69e75816db9bf4.93265945@writersfestival.ca
DTSTAMP:20260421T065726
DTSTART;TZID=America/Toronto:20150422T183000
DTEND;TZID=America/Toronto:20150422T200000
SUMMARY:Writers Festival: Teaching for the 21st Century with Joel Westheimer and John Mighton
LOCATION:Christ Church Cathedral\, Cathedral Hall\, 414 Sparks Street
END:VEVENT
END:VCALENDAR