BEGIN:VCALENDAR
VERSION:2.0
PRODID:-//Writers Festival//Event//EN
CALSCALE:GREGORIAN
METHOD:PUBLISH
BEGIN:VEVENT
UID:wf-69e739cdf35cf4.51013753@writersfestival.ca
DTSTAMP:20260421T044813
DTSTART;TZID=America/Toronto:20200828T110800
DTEND;TZID=America/Toronto:20200828T123800
SUMMARY:Writers Festival: Surviving and Thriving
LOCATION:
END:VEVENT
END:VCALENDAR