BEGIN:VCALENDAR
VERSION:2.0
PRODID:-//Writers Festival//Event//EN
CALSCALE:GREGORIAN
METHOD:PUBLISH
BEGIN:VEVENT
UID:wf-69e73d3fcd7f30.71632843@writersfestival.ca
DTSTAMP:20260421T050255
DTSTART;TZID=America/Toronto:20200130T190000
DTEND;TZID=America/Toronto:20200130T203000
SUMMARY:Writers Festival: Successful Aging
LOCATION:Knox Church\, 120 Lisgar St.
END:VEVENT
END:VCALENDAR