BEGIN:VCALENDAR
VERSION:2.0
PRODID:-//Writers Festival//Event//EN
CALSCALE:GREGORIAN
METHOD:PUBLISH
BEGIN:VEVENT
UID:wf-69e773e71204c0.84389383@writersfestival.ca
DTSTAMP:20260421T085607
DTSTART;TZID=America/Toronto:20161020T183000
DTEND;TZID=America/Toronto:20161020T200000
SUMMARY:Writers Festival: Stories about Canada with Jane Urquhart
LOCATION:Library and Archives Canada\, 395 Wellington Street
END:VEVENT
END:VCALENDAR