BEGIN:VCALENDAR
VERSION:2.0
PRODID:-//Writers Festival//Event//EN
CALSCALE:GREGORIAN
METHOD:PUBLISH
BEGIN:VEVENT
UID:wf-69e74fc61565a3.70419577@writersfestival.ca
DTSTAMP:20260421T062158
DTSTART;TZID=America/Toronto:20131025T200000
DTEND;TZID=America/Toronto:20131025T213000
SUMMARY:Writers Festival: Complete Surprising Fragments of Improbable Books  with Stephen Brockwell
LOCATION:Knox Presbyterian Church\, 120 Lisgar Street (at Elgin)
END:VEVENT
END:VCALENDAR