BEGIN:VCALENDAR
VERSION:2.0
PRODID:-//Writers Festival//Event//EN
CALSCALE:GREGORIAN
METHOD:PUBLISH
BEGIN:VEVENT
UID:wf-69e778ee7e3a23.53791341@writersfestival.ca
DTSTAMP:20260421T091734
DTSTART;TZID=America/Toronto:20221026T210000
DTEND;TZID=America/Toronto:20221026T223000
SUMMARY:Writers Festival: Son of Elsewhere
LOCATION:Christ Church Cathedral\, 414 Sparks St.
END:VEVENT
END:VCALENDAR