BEGIN:VCALENDAR
VERSION:2.0
PRODID:-//Writers Festival//Event//EN
CALSCALE:GREGORIAN
METHOD:PUBLISH
BEGIN:VEVENT
UID:wf-69e785f8d83c23.59230311@writersfestival.ca
DTSTAMP:20260421T101312
DTSTART;TZID=America/Toronto:20150519T190000
DTEND;TZID=America/Toronto:20150519T203000
SUMMARY:Writers Festival: Solitude Creek  with Jeffrey Deaver 
LOCATION:Christ Church Cathedral\, 414 Sparks Street
END:VEVENT
END:VCALENDAR