BEGIN:VCALENDAR
VERSION:2.0
PRODID:-//Writers Festival//Event//EN
CALSCALE:GREGORIAN
METHOD:PUBLISH
BEGIN:VEVENT
UID:wf-69e76a75a58498.60613268@writersfestival.ca
DTSTAMP:20260421T081549
DTSTART;TZID=America/Toronto:20161003T200000
DTEND;TZID=America/Toronto:20161003T213000
SUMMARY:Writers Festival: Slade House: One on One with David Mitchell
LOCATION:Southminster United Church\, 15 Alymer Ave. (corner of Bank)
END:VEVENT
END:VCALENDAR