BEGIN:VCALENDAR
VERSION:2.0
PRODID:-//Writers Festival//Event//EN
CALSCALE:GREGORIAN
METHOD:PUBLISH
BEGIN:VEVENT
UID:wf-69e753fc7a7825.33891191@writersfestival.ca
DTSTAMP:20260421T063956
DTSTART;TZID=America/Toronto:20150426T203000
DTEND;TZID=America/Toronto:20150426T220000
SUMMARY:Writers Festival: Sense and Sensibility  with Obi Simic\, Nina Berkhout and Beth Powning
LOCATION:Christ Church Cathedral\, 414 Sparks Street
END:VEVENT
END:VCALENDAR