BEGIN:VCALENDAR
VERSION:2.0
PRODID:-//Writers Festival//Event//EN
CALSCALE:GREGORIAN
METHOD:PUBLISH
BEGIN:VEVENT
UID:wf-69e740c63a7f76.03227230@writersfestival.ca
DTSTAMP:20260421T051758
DTSTART;TZID=America/Toronto:20111024T203000
DTEND;TZID=America/Toronto:20111024T220000
SUMMARY:Writers Festival: Scottish Crime Night with Stuart Macbride\, Denise Mina and Ian Rankin
LOCATION:Knox Presbyterian Church\, 120 Lisgar Street (at Elgin)
END:VEVENT
END:VCALENDAR