BEGIN:VCALENDAR
VERSION:2.0
PRODID:-//Writers Festival//Event//EN
CALSCALE:GREGORIAN
METHOD:PUBLISH
BEGIN:VEVENT
UID:wf-69e74fcf0065c4.67660287@writersfestival.ca
DTSTAMP:20260421T062207
DTSTART;TZID=America/Toronto:20170517T183000
DTEND;TZID=America/Toronto:20170517T200000
SUMMARY:Writers Festival: Book Launch: Running on Empty
LOCATION:Library and Archives Canada\, 395 Wellington Street
END:VEVENT
END:VCALENDAR