BEGIN:VCALENDAR
VERSION:2.0
PRODID:-//Writers Festival//Event//EN
CALSCALE:GREGORIAN
METHOD:PUBLISH
BEGIN:VEVENT
UID:wf-69e75168030ff1.84214438@writersfestival.ca
DTSTAMP:20260421T062856
DTSTART;TZID=America/Toronto:20220626T190000
DTEND;TZID=America/Toronto:20220626T203000
SUMMARY:Writers Festival: Run Towards the Danger
LOCATION:Christ Church Cathedral\, 414 Sparks St.
END:VEVENT
END:VCALENDAR