BEGIN:VCALENDAR
VERSION:2.0
PRODID:-//Writers Festival//Event//EN
CALSCALE:GREGORIAN
METHOD:PUBLISH
BEGIN:VEVENT
UID:wf-69e76dd7d14563.69527351@writersfestival.ca
DTSTAMP:20260421T083015
DTSTART;TZID=America/Toronto:20141025T120000
DTEND;TZID=America/Toronto:20141025T133000
SUMMARY:Writers Festival: Riveted with Jim Davies
LOCATION:Knox Presbyterian Church\, 120 Lisgar Street (at Elgin)
END:VEVENT
END:VCALENDAR