BEGIN:VCALENDAR
VERSION:2.0
PRODID:-//Writers Festival//Event//EN
CALSCALE:GREGORIAN
METHOD:PUBLISH
BEGIN:VEVENT
UID:wf-69e76d8fd6eed7.21556015@writersfestival.ca
DTSTAMP:20260421T082903
DTSTART;TZID=America/Toronto:20230506T120000
DTEND;TZID=America/Toronto:20230506T133000
SUMMARY:Writers Festival: Quantum Physics Made Me Do It
LOCATION:Christ Church Cathedral\, 414 Sparks St.
END:VEVENT
END:VCALENDAR