BEGIN:VCALENDAR
VERSION:2.0
PRODID:-//Writers Festival//Event//EN
CALSCALE:GREGORIAN
METHOD:PUBLISH
BEGIN:VEVENT
UID:wf-69e77ce318e0a9.82042070@writersfestival.ca
DTSTAMP:20260421T093427
DTSTART;TZID=America/Toronto:20150427T203000
DTEND;TZID=America/Toronto:20150427T220000
SUMMARY:Writers Festival: Poetry Cabaret  with Marie Annharte Baker\, Marilyn Dumont and Don McKay
LOCATION:Christ Church Cathedral\, 414 Sparks Street
END:VEVENT
END:VCALENDAR