BEGIN:VCALENDAR
VERSION:2.0
PRODID:-//Writers Festival//Event//EN
CALSCALE:GREGORIAN
METHOD:PUBLISH
BEGIN:VEVENT
UID:wf-69e739141ee2f2.86836800@writersfestival.ca
DTSTAMP:20260421T044508
DTSTART;TZID=America/Toronto:20190505T170000
DTEND;TZID=America/Toronto:20190505T183000
SUMMARY:Writers Festival: Plan 99 Prose
LOCATION:The Manx Pub\, 370 Elgin St.
END:VEVENT
END:VCALENDAR