BEGIN:VCALENDAR
VERSION:2.0
PRODID:-//Writers Festival//Event//EN
CALSCALE:GREGORIAN
METHOD:PUBLISH
BEGIN:VEVENT
UID:wf-69e740c821ae34.01037939@writersfestival.ca
DTSTAMP:20260421T051800
DTSTART;TZID=America/Toronto:20171022T170000
DTEND;TZID=America/Toronto:20171022T183000
SUMMARY:Writers Festival: Plan 99 Poetry with Jeramy Dodds\,Suzannah Showler and Sina Queyras 
LOCATION:Manx Pub\, 370 Elgin St.
END:VEVENT
END:VCALENDAR