BEGIN:VCALENDAR
VERSION:2.0
PRODID:-//Writers Festival//Event//EN
CALSCALE:GREGORIAN
METHOD:PUBLISH
BEGIN:VEVENT
UID:wf-69e8b236f0b245.04815970@writersfestival.ca
DTSTAMP:20260422T073414
DTSTART;TZID=America/Toronto:20181027T170000
DTEND;TZID=America/Toronto:20181027T183000
SUMMARY:Writers Festival: Plan 99 Fiction
LOCATION:Manx Pub\, 370 Elgin St.
END:VEVENT
END:VCALENDAR